BEGIN:VCALENDAR
VERSION:2.0
PRODID:-//Cabries - ECPv4.9.10//NONSGML v1.0//EN
CALSCALE:GREGORIAN
METHOD:PUBLISH
X-WR-CALNAME:Cabries
X-ORIGINAL-URL:https://www.cabries.fr
X-WR-CALDESC:Évènements pour Cabries
BEGIN:VTIMEZONE
TZID:Europe/Paris
BEGIN:DAYLIGHT
TZOFFSETFROM:+0100
TZOFFSETTO:+0200
TZNAME:CEST
DTSTART:20250330T010000
END:DAYLIGHT
BEGIN:STANDARD
TZOFFSETFROM:+0200
TZOFFSETTO:+0100
TZNAME:CET
DTSTART:20251026T010000
END:STANDARD
END:VTIMEZONE
BEGIN:VEVENT
DTSTART;TZID=Europe/Paris:20250117T203000
DTEND;TZID=Europe/Paris:20250117T223000
DTSTAMP:20260423T201402
CREATED:20241223T163943Z
LAST-MODIFIED:20241223T163943Z
UID:8479-1737145800-1737153000@www.cabries.fr
SUMMARY:L’heure d’été par Louise O’sman
DESCRIPTION:Une création poétique musicale autour du temps suspendu « hora sistere » ou « l’heure d’été »\, ce temps long qui permet de faire retour sur soi\, de s’arrêter\, de savourer le passage des heures et des humeurs. \nRéservation : https://www.billetweb.fr/lheure-dete-chanson&multi=19484&color=C14238&parent=maisondesartsdecabries&color=C14238&from_multi=1 \n
URL:https://www.cabries.fr/event/lheure-dete-par-louise-osman/
LOCATION:Auditorium Pierre Malbosc\, Rue des écoles\, CABRIES\, 13480\, France
CATEGORIES:Spectacle
ATTACH;FMTTYPE=image/png:https://www.cabries.fr/wp-content/uploads/2024/12/1701.png
END:VEVENT
END:VCALENDAR