BEGIN:VCALENDAR
VERSION:2.0
PRODID:-//Cabries - ECPv4.9.10//NONSGML v1.0//EN
CALSCALE:GREGORIAN
METHOD:PUBLISH
X-WR-CALNAME:Cabries
X-ORIGINAL-URL:https://www.cabries.fr
X-WR-CALDESC:Évènements pour Cabries
BEGIN:VTIMEZONE
TZID:Europe/Paris
BEGIN:DAYLIGHT
TZOFFSETFROM:+0100
TZOFFSETTO:+0200
TZNAME:CEST
DTSTART:20250330T010000
END:DAYLIGHT
BEGIN:STANDARD
TZOFFSETFROM:+0200
TZOFFSETTO:+0100
TZNAME:CET
DTSTART:20251026T010000
END:STANDARD
END:VTIMEZONE
BEGIN:VEVENT
DTSTART;TZID=Europe/Paris:20250115T170000
DTEND;TZID=Europe/Paris:20250115T190000
DTSTAMP:20260423T223027
CREATED:20241223T162910Z
LAST-MODIFIED:20241223T162910Z
UID:8476-1736960400-1736967600@www.cabries.fr
SUMMARY:Jeune public : Le loup vous dit tout
DESCRIPTION:Nichés au cœur de la forêt\, les spectateurs s’apprêtent à écouter un conte lorsque le Loup interrompt le récit\, mécontent. Gratuit pour les moins de 18 ans et + de 65 ans. \nRéservation : https://www.billetweb.fr/le-loups-vous-dit-tout-jeune-public-a-partir-de-3-ans&multi=19484&color=C14238&parent=maisondesartsdecabries&color=C14238&from_multi=1 \nA partir de 3 ans \n
URL:https://www.cabries.fr/event/jeune-public-le-loup-vous-dit-tout/
LOCATION:Auditorium Pierre Malbosc\, Rue des écoles\, CABRIES\, 13480\, France
CATEGORIES:Spectacle
ATTACH;FMTTYPE=image/png:https://www.cabries.fr/wp-content/uploads/2024/12/1501.png
END:VEVENT
END:VCALENDAR