BEGIN:VCALENDAR
VERSION:2.0
PRODID:-//Cabries - ECPv4.9.10//NONSGML v1.0//EN
CALSCALE:GREGORIAN
METHOD:PUBLISH
X-WR-CALNAME:Cabries
X-ORIGINAL-URL:https://www.cabries.fr
X-WR-CALDESC:Évènements pour Cabries
BEGIN:VTIMEZONE
TZID:Europe/Paris
BEGIN:DAYLIGHT
TZOFFSETFROM:+0100
TZOFFSETTO:+0200
TZNAME:CEST
DTSTART:20250330T010000
END:DAYLIGHT
BEGIN:STANDARD
TZOFFSETFROM:+0200
TZOFFSETTO:+0100
TZNAME:CET
DTSTART:20251026T010000
END:STANDARD
END:VTIMEZONE
BEGIN:VEVENT
DTSTART;TZID=Europe/Paris:20250112T150000
DTEND;TZID=Europe/Paris:20250112T170000
DTSTAMP:20260424T015425
CREATED:20241223T161145Z
LAST-MODIFIED:20241223T161145Z
UID:8468-1736694000-1736701200@www.cabries.fr
SUMMARY:Opérette Marseillaise par le Foyer Saint Raphaël
DESCRIPTION:\nComédie musicale inspirée de Vincent Scotto\, au profit des sœurs de Mère Teresa \nRéservation : https://www.billetweb.fr/operette-marseillaise (gratuit) \n\n
URL:https://www.cabries.fr/event/operette-marseillaise-par-le-foyer-saint-raphael/
LOCATION:Maison des Arts\, 2010 Rue des Écoles\, Cabriès\, 13480
CATEGORIES:Evénement,Spectacle
ATTACH;FMTTYPE=image/jpeg:https://www.cabries.fr/wp-content/uploads/2024/12/12012025.jpg
END:VEVENT
END:VCALENDAR