BEGIN:VCALENDAR
VERSION:2.0
PRODID:-//Cabries - ECPv4.9.10//NONSGML v1.0//EN
CALSCALE:GREGORIAN
METHOD:PUBLISH
X-WR-CALNAME:Cabries
X-ORIGINAL-URL:https://www.cabries.fr
X-WR-CALDESC:Évènements pour Cabries
BEGIN:VTIMEZONE
TZID:Europe/Paris
BEGIN:DAYLIGHT
TZOFFSETFROM:+0100
TZOFFSETTO:+0200
TZNAME:CEST
DTSTART:20250330T010000
END:DAYLIGHT
BEGIN:STANDARD
TZOFFSETFROM:+0200
TZOFFSETTO:+0100
TZNAME:CET
DTSTART:20251026T010000
END:STANDARD
END:VTIMEZONE
BEGIN:VEVENT
DTSTART;TZID=Europe/Paris:20251115T100000
DTEND;TZID=Europe/Paris:20251115T170000
DTSTAMP:20260421T175345
CREATED:20251105T140016Z
LAST-MODIFIED:20251105T140035Z
UID:10711-1763200800-1763226000@www.cabries.fr
SUMMARY:Téléthon : Stage 100% Danse Urbaine par calas Danse
DESCRIPTION:Le 15 novembre \n10h : Dancehall \n11h : Afro \n15h : Street Jazz \n16h15 : Heels \nAu profit du Téléthon \n
URL:https://www.cabries.fr/event/stage-100-danse-urbaine-par-calas-danse/
LOCATION:Oustau Per Touti\, Oustau per touti\, Avenue René Cassin\, Cabriès\, Bouche-du-Rhônes\, 13480\, France
CATEGORIES:Loisir
ATTACH;FMTTYPE=image/jpeg:https://www.cabries.fr/wp-content/uploads/2025/11/15112025.jpg
END:VEVENT
END:VCALENDAR