BEGIN:VCALENDAR
VERSION:2.0
PRODID:-//Cabries - ECPv4.9.10//NONSGML v1.0//EN
CALSCALE:GREGORIAN
METHOD:PUBLISH
X-WR-CALNAME:Cabries
X-ORIGINAL-URL:https://www.cabries.fr
X-WR-CALDESC:Évènements pour Cabries
BEGIN:VTIMEZONE
TZID:Europe/Paris
BEGIN:DAYLIGHT
TZOFFSETFROM:+0100
TZOFFSETTO:+0200
TZNAME:CEST
DTSTART:20250330T010000
END:DAYLIGHT
BEGIN:STANDARD
TZOFFSETFROM:+0200
TZOFFSETTO:+0100
TZNAME:CET
DTSTART:20251026T010000
END:STANDARD
END:VTIMEZONE
BEGIN:VEVENT
DTSTART;TZID=Europe/Paris:20250517T180000
DTEND;TZID=Europe/Paris:20250517T200000
DTSTAMP:20260422T021237
CREATED:20250417T132606Z
LAST-MODIFIED:20250515T094052Z
UID:9614-1747504800-1747512000@www.cabries.fr
SUMMARY:Atelier 8/10 ans : On a volé le pinceau de Mélik !
DESCRIPTION:Le 17 mai à 18h \nDans le cadre de « La nuit européenne des musées » \nRéservation : https://www.billetweb.fr/pro/maisondesartsdecabries?fbclid=IwY2xjawKSld1leHRuA2FlbQIxMAABHpg0fD9pIu441F6Y9gkxRWNRx3PwKJ2JdATRGrzlrTwVqcDYiDJ7xn88-VDb_aem_5GWAkdlHyeKWm04Tvlhp0g  \n
URL:https://www.cabries.fr/event/atelier-8-10-ans-on-a-vole-le-pinceau-de-melik/
LOCATION:Musée Edgar Mélik\, Château de Cabriès\, Cabriès\, 13480\, France
CATEGORIES:Enfance,Loisir
ATTACH;FMTTYPE=image/jpeg:https://www.cabries.fr/wp-content/uploads/2025/04/17052025.jpg
END:VEVENT
END:VCALENDAR