BEGIN:VCALENDAR
VERSION:2.0
PRODID:-//Cabries - ECPv4.9.10//NONSGML v1.0//EN
CALSCALE:GREGORIAN
METHOD:PUBLISH
X-WR-CALNAME:Cabries
X-ORIGINAL-URL:https://www.cabries.fr
X-WR-CALDESC:Évènements pour Cabries
BEGIN:VTIMEZONE
TZID:Europe/Paris
BEGIN:DAYLIGHT
TZOFFSETFROM:+0100
TZOFFSETTO:+0200
TZNAME:CEST
DTSTART:20240331T010000
END:DAYLIGHT
BEGIN:STANDARD
TZOFFSETFROM:+0200
TZOFFSETTO:+0100
TZNAME:CET
DTSTART:20241027T010000
END:STANDARD
END:VTIMEZONE
BEGIN:VEVENT
DTSTART;TZID=Europe/Paris:20240620T180000
DTEND;TZID=Europe/Paris:20240620T213000
DTSTAMP:20260422T174951
CREATED:20240419T124736Z
LAST-MODIFIED:20240419T124736Z
UID:7312-1718906400-1718919000@www.cabries.fr
SUMMARY:Papy Riders soirée skateboard  par Educ'Sports 13
DESCRIPTION:A compter du jeudi 28 mars\, les fameuses sessions Papy’Riders re-débarquent à Cabriès! \nPour le plus grand plaisir des pratiquants +16ans et jusqu’au mois de juin\, nous vous donnons rendez-vous\, un jeudi par mois\, sur le skatepark de Cabriès pour partager\, échanger\, “Rider” le temps d’une session 100% Adultes! \nPas d’inscriptions\, ni de compétitions juste une buvette et un peu de son. \nOrganisé par l’association EDUC’SPORTS 13\, sur le complexe sportif Raymond Martin à Cabriès (13). \nTous niveaux de pratique acceptés! \nBuvette & Encas\, vendu sur place \nPour les participants ne disposant pas de matériel possibilité de louer sur place \n
URL:https://www.cabries.fr/event/papy-riders-soiree-skateboard-par-educsports-13-3/
LOCATION:Skatepark\, L'Ecole de la Glisse\, Complexe Sportif Raymond Martin\, Avenue Raymond\, Cabriès\, 13480\, France
CATEGORIES:Loisir,Sport
ATTACH;FMTTYPE=image/png:https://www.cabries.fr/wp-content/uploads/2024/02/2803.png
ORGANIZER;CN="Educ%27sports%2013":MAILTO:contact@educsports13.fr
END:VEVENT
END:VCALENDAR