BEGIN:VCALENDAR
VERSION:2.0
PRODID:-//Cabries - ECPv4.9.10//NONSGML v1.0//EN
CALSCALE:GREGORIAN
METHOD:PUBLISH
X-WR-CALNAME:Cabries
X-ORIGINAL-URL:https://www.cabries.fr
X-WR-CALDESC:Évènements pour Cabries
BEGIN:VTIMEZONE
TZID:Europe/Paris
BEGIN:DAYLIGHT
TZOFFSETFROM:+0100
TZOFFSETTO:+0200
TZNAME:CEST
DTSTART:20260329T010000
END:DAYLIGHT
BEGIN:STANDARD
TZOFFSETFROM:+0200
TZOFFSETTO:+0100
TZNAME:CET
DTSTART:20261025T010000
END:STANDARD
END:VTIMEZONE
BEGIN:VEVENT
DTSTART;TZID=Europe/Paris:20260629T150000
DTEND;TZID=Europe/Paris:20260629T193000
DTSTAMP:20260424T234133
CREATED:20250911T120558Z
LAST-MODIFIED:20250911T120558Z
UID:10482-1782745200-1782761400@www.cabries.fr
SUMMARY:Collecte de l'association pour le don de sang
DESCRIPTION:Le 29 juin de 15h à 19h30 \nAprès plusieurs appels à la mobilisation\, la situation des stocks de sang reste critique.\nVotre mobilisation est essentielle pour les malades de notre région. \nPensez à réserver votre créneau : https://efs.link/rs6UK \nVenez nombreux\, dons urgent. \nMERCI pour votre mobilisation ! \n
URL:https://www.cabries.fr/event/collecte-de-lassociation-pour-le-don-de-sang-18/
LOCATION:Auditorium Pierre Malbosc\, Rue des écoles\, CABRIES\, 13480\, France
ATTACH;FMTTYPE=image/jpeg:https://www.cabries.fr/wp-content/uploads/2024/04/Don-de-sang.jpg
ORGANIZER;CN="Association%20pour%20le%20Don%20de%20Sang":MAILTO:dondusangcabries@gmail.com
END:VEVENT
END:VCALENDAR