BEGIN:VCALENDAR
VERSION:2.0
PRODID:-//Cabries - ECPv4.9.10//NONSGML v1.0//EN
CALSCALE:GREGORIAN
METHOD:PUBLISH
X-WR-CALNAME:Cabries
X-ORIGINAL-URL:https://www.cabries.fr
X-WR-CALDESC:Évènements pour Cabries
BEGIN:VTIMEZONE
TZID:Europe/Paris
BEGIN:DAYLIGHT
TZOFFSETFROM:+0100
TZOFFSETTO:+0200
TZNAME:CEST
DTSTART:20260329T010000
END:DAYLIGHT
BEGIN:STANDARD
TZOFFSETFROM:+0200
TZOFFSETTO:+0100
TZNAME:CET
DTSTART:20261025T010000
END:STANDARD
END:VTIMEZONE
BEGIN:VEVENT
DTSTART;TZID=Europe/Paris:20260521T180000
DTEND;TZID=Europe/Paris:20260521T213000
DTSTAMP:20260424T221924
CREATED:20260325T133238Z
LAST-MODIFIED:20260325T133238Z
UID:11159-1779386400-1779399000@www.cabries.fr
SUMMARY:Papy Riders par Educ'sports 13
DESCRIPTION:Le 21 mai de 18h à 21h30 au skatepark de Cabriès \nSoirée skateboard\, roller\, BMX & trottinette \n
URL:https://www.cabries.fr/event/papy-riders-par-educsports-13-8/
LOCATION:Skatepark\, L'Ecole de la Glisse\, Complexe Sportif Raymond Martin\, Avenue Raymond\, Cabriès\, 13480\, France
ATTACH;FMTTYPE=image/jpeg:https://www.cabries.fr/wp-content/uploads/2026/03/Papy-Riders-2026.jpg
ORGANIZER;CN="Educ%27sports%2013":MAILTO:contact@educsports13.fr
END:VEVENT
END:VCALENDAR