BEGIN:VCALENDAR
VERSION:2.0
PRODID:-//Cabries - ECPv4.9.10//NONSGML v1.0//EN
CALSCALE:GREGORIAN
METHOD:PUBLISH
X-WR-CALNAME:Cabries
X-ORIGINAL-URL:https://www.cabries.fr
X-WR-CALDESC:Évènements pour Cabries
BEGIN:VTIMEZONE
TZID:Europe/Paris
BEGIN:DAYLIGHT
TZOFFSETFROM:+0100
TZOFFSETTO:+0200
TZNAME:CEST
DTSTART:20260329T010000
END:DAYLIGHT
BEGIN:STANDARD
TZOFFSETFROM:+0200
TZOFFSETTO:+0100
TZNAME:CET
DTSTART:20261025T010000
END:STANDARD
END:VTIMEZONE
BEGIN:VEVENT
DTSTART;TZID=Europe/Paris:20260305T140000
DTEND;TZID=Europe/Paris:20260503T180000
DTSTAMP:20260424T210245
CREATED:20260217T115812Z
LAST-MODIFIED:20260318T144101Z
UID:11036-1772719200-1777831200@www.cabries.fr
SUMMARY:Exposition "Arborescences" de Jean-Louis Boudet
DESCRIPTION:Exposition du 05/03 au 03/05\, du jeudi au dimanche\, de 14h à 18h \n
URL:https://www.cabries.fr/event/exposition-arborescences-de-jean-boudet/
LOCATION:Musée Edgar Mélik\, Château de Cabriès\, Cabriès\, 13480\, France
ATTACH;FMTTYPE=image/jpeg:https://www.cabries.fr/wp-content/uploads/2026/02/01032026.jpg
END:VEVENT
BEGIN:VEVENT
DTSTART;TZID=Europe/Paris:20260411T103000
DTEND;TZID=Europe/Paris:20260411T230000
DTSTAMP:20260424T210245
CREATED:20260325T140859Z
LAST-MODIFIED:20260325T140859Z
UID:11171-1775903400-1775948400@www.cabries.fr
SUMMARY:Nature Color Run - 7ème édition
DESCRIPTION:Le 11 avril sur la Plaine Saint-Martin \nInformations et inscriptions : https://www.helloasso.com/associations/olympique-cabries-calas/evenements/nature-color-run-2026-classic?fbclid=IwY2xjawQwyAZleHRuA2FlbQIxMABzcnRjBmFwcF9pZBAyMjIwMzkxNzg4MjAwODkyAAEe1fiHrdpH9-aA2I6EFM2-JlcYqHS_7sq4fqALjRvUdBLig5qo892jeytLMg8_aem_j8EWu-fFzWtIUlC4hQgcrQ \n10:30 Ouverture du site et des inscriptions + retraits des packs \n10:30 Ouverture buvette \n11:30 Ouverture foodtrucks midi \n11:30/15:00 Animations village partenaires** \n15:30 Début arrivé grand public \n17:00 Début de l’échauffement en musique \n17:30 Départ \nJET DE POUDRE COLLECTIF à la fin de la course \n18:30/19:00 Animations** \n19:00 Début de l’after \n19:00 Ouverture des foodtrucks soir \n23:00* Fin de l’after “RUN TO PARTY” \n
URL:https://www.cabries.fr/event/nature-color-run-7eme-edition/
LOCATION:Plaine Saint-Martin\, Calas
ATTACH;FMTTYPE=image/jpeg:https://www.cabries.fr/wp-content/uploads/2026/03/11042026.jpg
END:VEVENT
END:VCALENDAR