BEGIN:VCALENDAR
VERSION:2.0
PRODID:-//Cabries - ECPv4.9.10//NONSGML v1.0//EN
CALSCALE:GREGORIAN
METHOD:PUBLISH
X-WR-CALNAME:Cabries
X-ORIGINAL-URL:https://www.cabries.fr
X-WR-CALDESC:Évènements pour Cabries
BEGIN:VTIMEZONE
TZID:Europe/Paris
BEGIN:DAYLIGHT
TZOFFSETFROM:+0100
TZOFFSETTO:+0200
TZNAME:CEST
DTSTART:20260329T010000
END:DAYLIGHT
BEGIN:STANDARD
TZOFFSETFROM:+0200
TZOFFSETTO:+0100
TZNAME:CET
DTSTART:20261025T010000
END:STANDARD
END:VTIMEZONE
BEGIN:VEVENT
DTSTART;TZID=Europe/Paris:20260305T140000
DTEND;TZID=Europe/Paris:20260503T180000
DTSTAMP:20260424T222047
CREATED:20260217T115812Z
LAST-MODIFIED:20260318T144101Z
UID:11036-1772719200-1777831200@www.cabries.fr
SUMMARY:Exposition "Arborescences" de Jean-Louis Boudet
DESCRIPTION:Exposition du 05/03 au 03/05\, du jeudi au dimanche\, de 14h à 18h \n
URL:https://www.cabries.fr/event/exposition-arborescences-de-jean-boudet/
LOCATION:Musée Edgar Mélik\, Château de Cabriès\, Cabriès\, 13480\, France
ATTACH;FMTTYPE=image/jpeg:https://www.cabries.fr/wp-content/uploads/2026/02/01032026.jpg
END:VEVENT
BEGIN:VEVENT
DTSTART;TZID=Europe/Paris:20260307T160000
DTEND;TZID=Europe/Paris:20260307T230000
DTSTAMP:20260424T222047
CREATED:20260217T123727Z
LAST-MODIFIED:20260217T123935Z
UID:11051-1772899200-1772924400@www.cabries.fr
SUMMARY:Trail des 6 collines par l’OCC
DESCRIPTION:Le 7 mars de 16h à 23h et le 8 mars de 7h à 20h au complexe sportif Raymond Martin \nInformations et réservations : https://www.occ-omnisports.com/traildes6collines/ \n
URL:https://www.cabries.fr/event/trail-des-6-collines-par-locc-2/
LOCATION:Complexe Sportif Raymond Martin\, Complexe sportif Raymond Martin\, Cabriès\, 13480
ATTACH;FMTTYPE=image/jpeg:https://www.cabries.fr/wp-content/uploads/2026/02/07-08032026.jpg
END:VEVENT
BEGIN:VEVENT
DTSTART;TZID=Europe/Paris:20260307T190000
DTEND;TZID=Europe/Paris:20260307T213000
DTSTAMP:20260424T222047
CREATED:20260217T122310Z
LAST-MODIFIED:20260217T122615Z
UID:11047-1772910000-1772919000@www.cabries.fr
SUMMARY:Soirée flamenco par le CIQ Cabriès village
DESCRIPTION:Le 7 mars à 19h à l’auditorium de la Maison des Arts \nRéservation : https://www.helloasso.com/associations/ciq-cabries-village/evenements/spectacle-flamenco-1 \n
URL:https://www.cabries.fr/event/soiree-flamenco-par-le-ciq-cabries-village/
LOCATION:Auditorium Pierre Malbosc\, Rue des écoles\, CABRIES\, 13480\, France
ATTACH;FMTTYPE=image/png:https://www.cabries.fr/wp-content/uploads/2026/02/07032026.png
END:VEVENT
END:VCALENDAR