BEGIN:VCALENDAR
VERSION:2.0
PRODID:-//Cabries - ECPv4.9.10//NONSGML v1.0//EN
CALSCALE:GREGORIAN
METHOD:PUBLISH
X-WR-CALNAME:Cabries
X-ORIGINAL-URL:https://www.cabries.fr
X-WR-CALDESC:Évènements pour Cabries
BEGIN:VTIMEZONE
TZID:Europe/Paris
BEGIN:DAYLIGHT
TZOFFSETFROM:+0100
TZOFFSETTO:+0200
TZNAME:CEST
DTSTART:20260329T010000
END:DAYLIGHT
BEGIN:STANDARD
TZOFFSETFROM:+0200
TZOFFSETTO:+0100
TZNAME:CET
DTSTART:20261025T010000
END:STANDARD
END:VTIMEZONE
BEGIN:VEVENT
DTSTART;TZID=Europe/Paris:20260211T170000
DTEND;TZID=Europe/Paris:20260211T190000
DTSTAMP:20260424T234234
CREATED:20251219T141852Z
LAST-MODIFIED:20251219T141938Z
UID:10976-1770829200-1770836400@www.cabries.fr
SUMMARY:Conte musical 5/11ans : Gripeton e tartugueta
DESCRIPTION:Le 11 février à 17h \nRéservation : https://www.billetweb.fr/gripeton-e-tartugueta&multi=19484&color=C14238&parent=maisondesartsdecabries&color=C14238&from_multi=1 \n
URL:https://www.cabries.fr/event/conte-musical-5-11ans-gripeton-e-tartugueta/
LOCATION:Auditorium Pierre Malbosc\, Rue des écoles\, CABRIES\, 13480\, France
ATTACH;FMTTYPE=image/jpeg:https://www.cabries.fr/wp-content/uploads/2025/12/11022026.jpg
END:VEVENT
END:VCALENDAR