BEGIN:VCALENDAR
VERSION:2.0
PRODID:-//Cabries - ECPv4.9.10//NONSGML v1.0//EN
CALSCALE:GREGORIAN
METHOD:PUBLISH
X-WR-CALNAME:Cabries
X-ORIGINAL-URL:https://www.cabries.fr
X-WR-CALDESC:Évènements pour Cabries
BEGIN:VTIMEZONE
TZID:Europe/Paris
BEGIN:DAYLIGHT
TZOFFSETFROM:+0100
TZOFFSETTO:+0200
TZNAME:CEST
DTSTART:20250330T010000
END:DAYLIGHT
BEGIN:STANDARD
TZOFFSETFROM:+0200
TZOFFSETTO:+0100
TZNAME:CET
DTSTART:20251026T010000
END:STANDARD
BEGIN:DAYLIGHT
TZOFFSETFROM:+0100
TZOFFSETTO:+0200
TZNAME:CEST
DTSTART:20260329T010000
END:DAYLIGHT
BEGIN:STANDARD
TZOFFSETFROM:+0200
TZOFFSETTO:+0100
TZNAME:CET
DTSTART:20261025T010000
END:STANDARD
END:VTIMEZONE
BEGIN:VEVENT
DTSTART;VALUE=DATE:20251201
DTEND;VALUE=DATE:20260201
DTSTAMP:20260424T234111
CREATED:20251029T103853Z
LAST-MODIFIED:20251203T095102Z
UID:10669-1764547200-1769903999@www.cabries.fr
SUMMARY:Grand Concours de Dessin : Portrait de Sorcière !
DESCRIPTION:Concours du 1er décembre 2025 au 31 janvier 2026 \nDessine la sorcière de tes rêves !\nDrôle\, gentille ou un peu effrayante… Avec son chapeau\, son balai et son animal préféré\, fais-la apparaître sur le papier ! \nCatégories & consignes : \n3-6 ans – Ma première sorcière\nDessine ta sorcière favorite avec tous les accessoires que tu aimes : chapeau\, balai\, animal magique…\nCritères : couleurs et formes expressives\, détails amusants. \n7-9 ans – La sorcière et son univers\nDessine la sorcière dans son monde magique : maison\, forêt enchantée ou laboratoire de potions.\nObjectif : créer une petite scène qui raconte une histoire.\nCritères : originalité\, richesse des détails\, respect du thème. \n10-13 ans – Une histoire de sorcellerie\nDessine une scène complète avec un titre ou une légende : potion magique\, duel ou vol au clair de lune…\nObjectif : allier créativité\, narration et composition.\nCritères : qualité de la composition\, cohérence de l’histoire\, originalité. \nDates : 1er décembre 2025 – 31 janvier 2026\nDépose ton dessin à la Bibliothèque Municipale de Cabriès ou envoie-le par mail à bibliotheque@cabries.fr\nFormat : A4 \nLaisse libre cours à ton imagination et montre-nous ta magie ! \nLe concours est organisé par la Bibliothèque Municipale dans le cadre de sa participation au dispositif « Nous\, sorcière & sauvage » organisé en partenariat avec le département 13 et la bibliothèque départementale 13. \n  \nRèglement : https://drive.google.com/file/d/1rDXMnPB5-d4ycyVjRj6NFWeo8BYZ-XiU/view?usp=sharing \n
URL:https://www.cabries.fr/event/concours-de-dessin-pour-enfants-portrait-de-sorciere/
LOCATION:Bibliothèque Municipale\, 2010 Rue des Écoles\, Cabriès\, 13480\, France
ATTACH;FMTTYPE=image/jpeg:https://www.cabries.fr/wp-content/uploads/2025/10/01122025-31012026.jpg
ORGANIZER;CN="Biblioth%C3%A8que%20Municipale":MAILTO:bibliotheque@cabries.fr
END:VEVENT
BEGIN:VEVENT
DTSTART;VALUE=DATE:20260110
DTEND;VALUE=DATE:20260211
DTSTAMP:20260424T234111
CREATED:20251219T123014Z
LAST-MODIFIED:20251219T123014Z
UID:10933-1768003200-1770767999@www.cabries.fr
SUMMARY:Exposition Cornebidouille
DESCRIPTION:Du 10 janvier au 10 février 2026 \nEnfin une exposition sur la sorcière préférée des enfants… surtout ceux qui ne mangent pas leur soupe ! \nDécouvrez l’univers incroyable de Cornebidouille à travers douze illustrations et douze silhouettes de Magali Bonniol\, des cartels\, ainsi que des activités inédites… Les illustrations\, extraites des six albums existants\, ont été classées en 4 thématiques : Toilettes et tuyaux\, Petit et grand\, Les accessoires de Cornebidouille\, Les transformations de Cornebidouille. \nChaque illustration est accompagnée d’un cartel et d’un QR code proposant un extrait audio de l’album lu par Pierre Bertrand. \nEn partenariat avec la bibliothèque départementale des Bouches du Rhône et le département 13 dans le cadre de l’évènement « Nous\, Sorcière & Sauvage ». \nEntrée libre pour petits et grands enfants. \n
URL:https://www.cabries.fr/event/exposition-cornebidouille/
LOCATION:Maison des Arts\, 2010 Rue des Écoles\, Cabriès\, 13480
ATTACH;FMTTYPE=image/jpeg:https://www.cabries.fr/wp-content/uploads/2025/12/1001-10022026.jpg
ORGANIZER;CN="Biblioth%C3%A8que%20Municipale":MAILTO:bibliotheque@cabries.fr
END:VEVENT
BEGIN:VEVENT
DTSTART;TZID=Europe/Paris:20260130T203000
DTEND;TZID=Europe/Paris:20260130T223000
DTSTAMP:20260424T234111
CREATED:20251219T134028Z
LAST-MODIFIED:20251219T134053Z
UID:10958-1769805000-1769812200@www.cabries.fr
SUMMARY:Concert : Jeune fille cherche maison douce où pratiquer son piano
DESCRIPTION:Le 30 janvier à 20h30 \nRéservation : https://www.billetweb.fr/jeune-fille-cherche-maison-douce-ou-pratiquer-son-piano&multi=19484&color=C14238&parent=maisondesartsdecabries&color=C14238&from_multi=1 \n
URL:https://www.cabries.fr/event/concert-jeune-fille-cherche-maison-douce-ou-pratiquer-son-piano/
LOCATION:Auditorium Pierre Malbosc\, Rue des écoles\, CABRIES\, 13480\, France
ATTACH;FMTTYPE=image/jpeg:https://www.cabries.fr/wp-content/uploads/2025/12/30012026.jpg
END:VEVENT
END:VCALENDAR