BEGIN:VCALENDAR
VERSION:2.0
PRODID:-//Cabries - ECPv4.9.10//NONSGML v1.0//EN
CALSCALE:GREGORIAN
METHOD:PUBLISH
X-WR-CALNAME:Cabries
X-ORIGINAL-URL:https://www.cabries.fr
X-WR-CALDESC:Évènements pour Cabries
BEGIN:VTIMEZONE
TZID:Europe/Paris
BEGIN:DAYLIGHT
TZOFFSETFROM:+0100
TZOFFSETTO:+0200
TZNAME:CEST
DTSTART:20250330T010000
END:DAYLIGHT
BEGIN:STANDARD
TZOFFSETFROM:+0200
TZOFFSETTO:+0100
TZNAME:CET
DTSTART:20251026T010000
END:STANDARD
END:VTIMEZONE
BEGIN:VEVENT
DTSTART;VALUE=DATE:20251204
DTEND;VALUE=DATE:20251206
DTSTAMP:20260421T094546
CREATED:20251120T125921Z
LAST-MODIFIED:20251120T130133Z
UID:10760-1764806400-1764979199@www.cabries.fr
SUMMARY:Téléthon : Vente de cookies par Le Bus
DESCRIPTION:Le 4 décembre de 8h à 19h et le 5 décembre de 8h à 10h et de 16h à 20h \nAu profit du Téléthon \n
URL:https://www.cabries.fr/event/vente-de-cookies-par-le-bus/
LOCATION:Bus Roberts\, 2010 Rue des Écoles\, Cabriès\, Sélectionner un État :\, 13480\, France
ATTACH;FMTTYPE=image/jpeg:https://www.cabries.fr/wp-content/uploads/2025/11/04-05122025.jpg
ORGANIZER;CN="Association%20A%2B%20dans%20le%20bus":MAILTO:lebuscabries@gmail.com
END:VEVENT
END:VCALENDAR