BEGIN:VCALENDAR
VERSION:2.0
PRODID:-//Cabries - ECPv4.9.10//NONSGML v1.0//EN
CALSCALE:GREGORIAN
METHOD:PUBLISH
X-WR-CALNAME:Cabries
X-ORIGINAL-URL:https://www.cabries.fr
X-WR-CALDESC:Évènements pour Cabries
BEGIN:VTIMEZONE
TZID:Europe/Paris
BEGIN:DAYLIGHT
TZOFFSETFROM:+0100
TZOFFSETTO:+0200
TZNAME:CEST
DTSTART:20250330T010000
END:DAYLIGHT
BEGIN:STANDARD
TZOFFSETFROM:+0200
TZOFFSETTO:+0100
TZNAME:CET
DTSTART:20251026T010000
END:STANDARD
END:VTIMEZONE
BEGIN:VEVENT
DTSTART;TZID=Europe/Paris:20251122T190000
DTEND;TZID=Europe/Paris:20251122T210000
DTSTAMP:20260421T081547
CREATED:20251009T132225Z
LAST-MODIFIED:20251009T132241Z
UID:10591-1763838000-1763845200@www.cabries.fr
SUMMARY:Théâtre musical : Une amitié sans clap de fin
DESCRIPTION:Le samedi 22 novembre à 19h \nDans un jeu multi personnages original\, deux comédiens vous entraînent dans l’univers du cinéaste Jean Renoir et de l’écrivain-aviateur Antoine de St-Exupéry. L’histoire débute par leur rencontre pendant la Seconde Guerre mondiale alors qu’ils sont en partance de France vers les USA. Durant cette traversée naîtront leur amitié indéfectible et le projet commun de tourner une adaptation du roman « Terre des hommes ». Les personnages\, réels ou de fiction\, sont inspirés d’archives authentiques. Le spectacle vous fera voyager de Marseille à Lisbonne\, de New-York à Los Angeles. Le final salue les retrouvailles des deux artistes à Hollywood\, autour d’une dégustation d’huile d’olive\, évoquant Nice et l’oliveraie des Collettes à Cagnes-sur-Mer\, domaine de la famille Renoir. \nChemindessens\nCréation théâtrale et musicale d’Isabelle Chemin\, Gus\nPortmann et Marybel Dassagnes \nRéservation : https://www.billetweb.fr/una-amitie-sans-clap-de-fin-theatre-musical&multi=19484&color=C14238&parent=maisondesartsdecabries&color=C14238&from_multi=1 \n
URL:https://www.cabries.fr/event/theatre-musical-une-amitie-sans-clap-de-fin/
LOCATION:Auditorium Pierre Malbosc\, Rue des écoles\, CABRIES\, 13480\, France
CATEGORIES:Musique
ATTACH;FMTTYPE=image/png:https://www.cabries.fr/wp-content/uploads/2025/10/22112025-Mda.png
END:VEVENT
END:VCALENDAR