BEGIN:VCALENDAR
VERSION:2.0
PRODID:-//Cabries - ECPv4.9.10//NONSGML v1.0//EN
CALSCALE:GREGORIAN
METHOD:PUBLISH
X-WR-CALNAME:Cabries
X-ORIGINAL-URL:https://www.cabries.fr
X-WR-CALDESC:Évènements pour Cabries
BEGIN:VTIMEZONE
TZID:Europe/Paris
BEGIN:DAYLIGHT
TZOFFSETFROM:+0100
TZOFFSETTO:+0200
TZNAME:CEST
DTSTART:20220327T010000
END:DAYLIGHT
BEGIN:STANDARD
TZOFFSETFROM:+0200
TZOFFSETTO:+0100
TZNAME:CET
DTSTART:20221030T010000
END:STANDARD
END:VTIMEZONE
BEGIN:VEVENT
DTSTART;TZID=Europe/Paris:20220108T143000
DTEND;TZID=Europe/Paris:20220108T143000
DTSTAMP:20260425T154909
CREATED:20220104T193901Z
LAST-MODIFIED:20220107T151832Z
UID:3891-1641652200-1641652200@www.cabries.fr
SUMMARY:[ANNULE] OFFENBACH FOR EVER
DESCRIPTION:[ANNULE] \nOFFENBACH FOR EVER de Jean-Marc Biskup.\nVenez fêter la nouvelle année avec la folie Offenbach ! Un spectacle enjoué pour petits et grands où vous retrouverez les grands airs du plus célèbre compositeur d’opérette et opéra-bouffe français Jacques Offenbach !\nIl permet aux mélomanes de réentendre les succès emblématiques d’Offenbach et aux profanes de s’initier à cette musique typiquement française qui pétille comme des bulles de Champagne.\nEntrée 10€/15€.\nUn partenariat CALMS/MdA \n[ANNULE] \n  \n
URL:https://www.cabries.fr/event/offenbach-for-ever/
LOCATION:Auditorium Pierre Malbosc\, Rue des écoles\, CABRIES\, 13480\, France
ATTACH;FMTTYPE=image/jpeg:https://www.cabries.fr/wp-content/uploads/2022/01/264734491_1796141650581674_3382712658521598453_n-1.jpg
END:VEVENT
END:VCALENDAR