BEGIN:VCALENDAR
VERSION:2.0
PRODID:-//Cabries - ECPv4.9.10//NONSGML v1.0//EN
CALSCALE:GREGORIAN
METHOD:PUBLISH
X-WR-CALNAME:Cabries
X-ORIGINAL-URL:https://www.cabries.fr
X-WR-CALDESC:Évènements pour Cabries
BEGIN:VTIMEZONE
TZID:Europe/Paris
BEGIN:DAYLIGHT
TZOFFSETFROM:+0100
TZOFFSETTO:+0200
TZNAME:CEST
DTSTART:20250330T010000
END:DAYLIGHT
BEGIN:STANDARD
TZOFFSETFROM:+0200
TZOFFSETTO:+0100
TZNAME:CET
DTSTART:20251026T010000
END:STANDARD
END:VTIMEZONE
BEGIN:VEVENT
DTSTART;TZID=Europe/Paris:20251203T190000
DTEND;TZID=Europe/Paris:20251203T210000
DTSTAMP:20260421T083850
CREATED:20251009T133329Z
LAST-MODIFIED:20251009T133329Z
UID:10601-1764788400-1764795600@www.cabries.fr
SUMMARY:Musique du monde : Noël en méditerranée
DESCRIPTION:Le mercredi 3 décembre à 19h \nComme chaque année\, le Département vous invite à sa traditionnelle tournée des Chants de Noël. Quelques 69 concerts gratuits vous attendent aux quatre coins de la Provence pour célébrer en musique le temps de l’Avent. \nAvec Françoise Atlan et ses musiciens\nTournée départementale des chants de Noël \n
URL:https://www.cabries.fr/event/musique-du-monde-noel-en-mediterranee/
LOCATION:Auditorium Pierre Malbosc\, Rue des écoles\, CABRIES\, 13480\, France
CATEGORIES:Musique
ATTACH;FMTTYPE=image/png:https://www.cabries.fr/wp-content/uploads/2025/10/03122025.png
END:VEVENT
END:VCALENDAR