BEGIN:VCALENDAR
VERSION:2.0
PRODID:-//Cabries - ECPv4.9.10//NONSGML v1.0//EN
CALSCALE:GREGORIAN
METHOD:PUBLISH
X-WR-CALNAME:Cabries
X-ORIGINAL-URL:https://www.cabries.fr
X-WR-CALDESC:Évènements pour Cabries
BEGIN:VTIMEZONE
TZID:Europe/Paris
BEGIN:DAYLIGHT
TZOFFSETFROM:+0100
TZOFFSETTO:+0200
TZNAME:CEST
DTSTART:20250330T010000
END:DAYLIGHT
BEGIN:STANDARD
TZOFFSETFROM:+0200
TZOFFSETTO:+0100
TZNAME:CET
DTSTART:20251026T010000
END:STANDARD
END:VTIMEZONE
BEGIN:VEVENT
DTSTART;TZID=Europe/Paris:20251109T140000
DTEND;TZID=Europe/Paris:20251109T180000
DTSTAMP:20260421T080604
CREATED:20251009T144401Z
LAST-MODIFIED:20251009T144401Z
UID:10614-1762696800-1762711200@www.cabries.fr
SUMMARY:Loto de l'association Le Cœur de Léa
DESCRIPTION:Le dimanche 9 novembre à 14h \n
URL:https://www.cabries.fr/event/loto-de-lassociation-le-coeur-de-lea/
LOCATION:Salle D’Armes\, COSEC Complexe Sportif Raymond  Martin\, Rue Raymond Martin\, Cabriès\, 13480\, France
ATTACH;FMTTYPE=image/jpeg:https://www.cabries.fr/wp-content/uploads/2025/10/09112025.jpg
END:VEVENT
END:VCALENDAR