BEGIN:VCALENDAR
VERSION:2.0
PRODID:-//Cabries - ECPv4.9.10//NONSGML v1.0//EN
CALSCALE:GREGORIAN
METHOD:PUBLISH
X-WR-CALNAME:Cabries
X-ORIGINAL-URL:https://www.cabries.fr
X-WR-CALDESC:Évènements pour Cabries
BEGIN:VTIMEZONE
TZID:Europe/Paris
BEGIN:DAYLIGHT
TZOFFSETFROM:+0100
TZOFFSETTO:+0200
TZNAME:CEST
DTSTART:20250330T010000
END:DAYLIGHT
BEGIN:STANDARD
TZOFFSETFROM:+0200
TZOFFSETTO:+0100
TZNAME:CET
DTSTART:20251026T010000
END:STANDARD
END:VTIMEZONE
BEGIN:VEVENT
DTSTART;TZID=Europe/Paris:20251129T110000
DTEND;TZID=Europe/Paris:20251129T130000
DTSTAMP:20260421T110300
CREATED:20251120T131715Z
LAST-MODIFIED:20251120T131715Z
UID:10766-1764414000-1764421200@www.cabries.fr
SUMMARY:Inauguration de la piste d’athlétisme Muriel Hurtis
DESCRIPTION:Le samedi 29 novembre à 11h \n
URL:https://www.cabries.fr/event/inauguration-de-la-piste-dathletisme-muriel-hurtis/
LOCATION:Complexe Sportif Raymond Martin\, Complexe sportif Raymond Martin\, Cabriès\, 13480
ATTACH;FMTTYPE=image/jpeg:https://www.cabries.fr/wp-content/uploads/2025/11/29112025.jpg
END:VEVENT
END:VCALENDAR