BEGIN:VCALENDAR
VERSION:2.0
PRODID:-//Cabries - ECPv4.9.10//NONSGML v1.0//EN
CALSCALE:GREGORIAN
METHOD:PUBLISH
X-WR-CALNAME:Cabries
X-ORIGINAL-URL:https://www.cabries.fr
X-WR-CALDESC:Évènements pour Cabries
BEGIN:VTIMEZONE
TZID:Europe/Paris
BEGIN:DAYLIGHT
TZOFFSETFROM:+0100
TZOFFSETTO:+0200
TZNAME:CEST
DTSTART:20190331T010000
END:DAYLIGHT
BEGIN:STANDARD
TZOFFSETFROM:+0200
TZOFFSETTO:+0100
TZNAME:CET
DTSTART:20191027T010000
END:STANDARD
END:VTIMEZONE
BEGIN:VEVENT
DTSTART;TZID=Europe/Paris:20190525T190000
DTEND;TZID=Europe/Paris:20190525T190000
DTSTAMP:20260421T105934
CREATED:20190506T133937Z
LAST-MODIFIED:20200514T104445Z
UID:716-1558810800-1558810800@www.cabries.fr
SUMMARY:Fête du CIQ Cabriès Village
DESCRIPTION:Le CIQ Cabries Village vous convie place de l’Horloge Samedi 25 mai Apéritif offert à partir de 19h suivi du Repas sur réservation (Daube provencale) \nMenu enfants\nAnimation\nTombola\nBal \nRenseignements & inscription: 06 82 33 43 77 (de 19 à 21h) \n
URL:https://www.cabries.fr/event/fete-du-ciq-cabries-village/
LOCATION:Place de l’Horloge\, Rue Saint Roch\, Cabriès\, 13480\, France
END:VEVENT
END:VCALENDAR