BEGIN:VCALENDAR
VERSION:2.0
PRODID:-//Cabries - ECPv4.9.10//NONSGML v1.0//EN
CALSCALE:GREGORIAN
METHOD:PUBLISH
X-WR-CALNAME:Cabries
X-ORIGINAL-URL:https://www.cabries.fr
X-WR-CALDESC:Évènements pour Cabries
BEGIN:VTIMEZONE
TZID:Europe/Paris
BEGIN:DAYLIGHT
TZOFFSETFROM:+0100
TZOFFSETTO:+0200
TZNAME:CEST
DTSTART:20220327T010000
END:DAYLIGHT
BEGIN:STANDARD
TZOFFSETFROM:+0200
TZOFFSETTO:+0100
TZNAME:CET
DTSTART:20221030T010000
END:STANDARD
END:VTIMEZONE
BEGIN:VEVENT
DTSTART;TZID=Europe/Paris:20220630T180000
DTEND;TZID=Europe/Paris:20220630T210000
DTSTAMP:20260420T185339
CREATED:20220615T130812Z
LAST-MODIFIED:20220615T130812Z
UID:4605-1656612000-1656622800@www.cabries.fr
SUMMARY:Fées ta life
DESCRIPTION:Festival La MDA en balade Musiques en fête \nSpectacle Jeune public par la Cie La Rumeur – Entrée libre \nRenseignements : 04 42 28 13 80 \n
URL:https://www.cabries.fr/event/fees-ta-life/
LOCATION:Parvis de la Maison des Arts
END:VEVENT
END:VCALENDAR