BEGIN:VCALENDAR
VERSION:2.0
PRODID:-//Cabries - ECPv4.9.10//NONSGML v1.0//EN
CALSCALE:GREGORIAN
METHOD:PUBLISH
X-WR-CALNAME:Cabries
X-ORIGINAL-URL:https://www.cabries.fr
X-WR-CALDESC:Évènements pour Cabries
BEGIN:VTIMEZONE
TZID:Europe/Paris
BEGIN:DAYLIGHT
TZOFFSETFROM:+0100
TZOFFSETTO:+0200
TZNAME:CEST
DTSTART:20240331T010000
END:DAYLIGHT
BEGIN:STANDARD
TZOFFSETFROM:+0200
TZOFFSETTO:+0100
TZNAME:CET
DTSTART:20241027T010000
END:STANDARD
END:VTIMEZONE
BEGIN:VEVENT
DTSTART;TZID=Europe/Paris:20241214T083000
DTEND;TZID=Europe/Paris:20241214T130000
DTSTAMP:20260422T205608
CREATED:20241125T082010Z
LAST-MODIFIED:20241125T082010Z
UID:8293-1734165000-1734181200@www.cabries.fr
SUMMARY:Don du sang
DESCRIPTION:
URL:https://www.cabries.fr/event/don-du-sang-2/
LOCATION:Ecole de la Trebillane\, Sq. de la Ronceraie\, Cabriès\, 13480\, France
CATEGORIES:Evénement
ATTACH;FMTTYPE=image/jpeg:https://www.cabries.fr/wp-content/uploads/2024/11/AFFICHE-CALAS_page-0001.jpg
ORGANIZER;CN="Association%20pour%20le%20Don%20de%20Sang":MAILTO:dondusangcabries@gmail.com
END:VEVENT
END:VCALENDAR