BEGIN:VCALENDAR
VERSION:2.0
PRODID:-//Cabries - ECPv4.9.10//NONSGML v1.0//EN
CALSCALE:GREGORIAN
METHOD:PUBLISH
X-WR-CALNAME:Cabries
X-ORIGINAL-URL:https://www.cabries.fr
X-WR-CALDESC:Évènements pour Cabries
BEGIN:VTIMEZONE
TZID:Europe/Paris
BEGIN:DAYLIGHT
TZOFFSETFROM:+0100
TZOFFSETTO:+0200
TZNAME:CEST
DTSTART:20210328T010000
END:DAYLIGHT
BEGIN:STANDARD
TZOFFSETFROM:+0200
TZOFFSETTO:+0100
TZNAME:CET
DTSTART:20211031T010000
END:STANDARD
END:VTIMEZONE
BEGIN:VEVENT
DTSTART;TZID=Europe/Paris:20211218T160000
DTEND;TZID=Europe/Paris:20211218T190000
DTSTAMP:20260425T170724
CREATED:20210908T090026Z
LAST-MODIFIED:20211217T095939Z
UID:3628-1639843200-1639854000@www.cabries.fr
SUMMARY:Noël en Provence
DESCRIPTION: La municipalité de Cabriès-Calas vous invite à célébrer Noël en Provence le samedi 18 décembre à partir de 16h avec le départ du cortège. \n\n\n\n\n Au programme : Aubades provençales en habits traditionnels et crèche parlante\, de quoi ravir petits et grands en cette période de fêtes de fin d’année !\n\n\n\n Programme détaillé :\n\n\n16h : Départ du cortège place de la mairie\, descente de la rue Auguste Mavy en direction de la Maison des Arts.\n17h : Animation musicale provençale sur le parvis de la Maison des Arts\n17h30 : Entrée dans l’auditorium sous arceaux fleuris pour assister à la crèche parlante\n\n\n\n Nous espérons vous voir nombreux pour célébrer ensemble cette belle période de l’année\n\n
URL:https://www.cabries.fr/event/creche-parlante/
LOCATION:Maison des Arts\, 2010 Rue des Écoles\, Cabriès\, 13480
END:VEVENT
END:VCALENDAR