BEGIN:VCALENDAR
VERSION:2.0
PRODID:-//Cabries - ECPv4.9.10//NONSGML v1.0//EN
CALSCALE:GREGORIAN
METHOD:PUBLISH
X-WR-CALNAME:Cabries
X-ORIGINAL-URL:https://www.cabries.fr
X-WR-CALDESC:Évènements pour Cabries
BEGIN:VTIMEZONE
TZID:Europe/Paris
BEGIN:DAYLIGHT
TZOFFSETFROM:+0100
TZOFFSETTO:+0200
TZNAME:CEST
DTSTART:20250330T010000
END:DAYLIGHT
BEGIN:STANDARD
TZOFFSETFROM:+0200
TZOFFSETTO:+0100
TZNAME:CET
DTSTART:20251026T010000
END:STANDARD
END:VTIMEZONE
BEGIN:VEVENT
DTSTART;TZID=Europe/Paris:20251106T183000
DTEND;TZID=Europe/Paris:20251106T203000
DTSTAMP:20260421T104902
CREATED:20251009T131328Z
LAST-MODIFIED:20251009T131328Z
UID:10581-1762453800-1762461000@www.cabries.fr
SUMMARY:Conférence : Sorcellerie et pouvoir féminin
DESCRIPTION:Le jeudi 6 novembre à 18h30 \nLa chasse aux sorcières en Provence. \nMême si elle est dénoncée avec force aujourd’hui\, une sorte de haine et de crainte du féminin a\, en fait\, sévit depuis des siècles. Elle a culminé partout en Europe du XV au XVIII siècle : ce fut la chasse aux sorcières. La Provence ne fut pas exempte de ces horreurs \, de nombreux bûchers furent allumés dans nos campagnes et certains grands procès\, tels ceux d’Aix en Provence en témoignent .\nMais pourquoi les femmes ont-elles été si souvent accusées ?\nLa féminité était-elle par essence sorcière ? Comment se déroulait l’infernale mécanique des procès ? Et pourquoi fantasmes et peurs de l’époque trouvèrent-ils là un exutoire facile ? \nPar Catherine Ribotton\, Professeur agrégée d’Histoire\, ethno-historienne \nPublic : Ados-Adultes \nRéservation : https://www.billetweb.fr/conference-sorcieres&multi=19484&color=C14238&parent=maisondesartsdecabries&color=C14238&from_multi=1 \n
URL:https://www.cabries.fr/event/conference-sorcellerie-et-pouvoir-feminin/
LOCATION:Auditorium Pierre Malbosc\, Rue des écoles\, CABRIES\, 13480\, France
CATEGORIES:Conférence
ATTACH;FMTTYPE=image/png:https://www.cabries.fr/wp-content/uploads/2025/10/06102025.png
END:VEVENT
END:VCALENDAR