BEGIN:VCALENDAR
VERSION:2.0
PRODID:-//Cabries - ECPv4.9.10//NONSGML v1.0//EN
CALSCALE:GREGORIAN
METHOD:PUBLISH
X-WR-CALNAME:Cabries
X-ORIGINAL-URL:https://www.cabries.fr
X-WR-CALDESC:Évènements pour Cabries
BEGIN:VTIMEZONE
TZID:Europe/Paris
BEGIN:DAYLIGHT
TZOFFSETFROM:+0100
TZOFFSETTO:+0200
TZNAME:CEST
DTSTART:20220327T010000
END:DAYLIGHT
BEGIN:STANDARD
TZOFFSETFROM:+0200
TZOFFSETTO:+0100
TZNAME:CET
DTSTART:20221030T010000
END:STANDARD
END:VTIMEZONE
BEGIN:VEVENT
DTSTART;TZID=Europe/Paris:20220707T183000
DTEND;TZID=Europe/Paris:20220707T200000
DTSTAMP:20260422T063341
CREATED:20220707T094651Z
LAST-MODIFIED:20220707T094651Z
UID:4736-1657218600-1657224000@www.cabries.fr
SUMMARY:[CONFÉRENCE POLLUTION LUMINEUSE : QUELLES CONSEQUENCES POUR LA BIODIVERSITÉ ?
DESCRIPTION: Dans le cadre de la semaine de l’environnement organisée par la municipalité de Cabriès\, jusqu’au 10 juillet prochain\, \nVenez découvrir les impacts de l’éclairage sur la faune et la flore avec 𝗟𝘂𝗰 𝗖𝗮𝘁𝗵𝗮𝗹𝗮\, référent France Nature Environnement Vaucluse et astronome amateur.\n Rendez-vous à la bergerie\, 𝓞𝓾𝓼𝓽𝓪ù 𝓹𝓮𝓻 𝓣𝓸𝓾𝓽𝓲 avenue René Cassin\, jeudi 7 juillet à 18h30 ! Entrée libre.\n Retrouvez l’ensemble du programme de la semaine sur le site de cabries.fr : http://www.cabries.fr/semaine-de-lenvironnement/\n  \n
URL:https://www.cabries.fr/event/conference-pollution-lumineuse-quelles-consequences-pour-la-biodiversite/
LOCATION:Oustau Per Touti\, Oustau per touti\, Avenue René Cassin\, Cabriès\, Bouche-du-Rhônes\, 13480\, France
CATEGORIES:Environnement
ATTACH;FMTTYPE=image/png:https://www.cabries.fr/wp-content/uploads/2022/07/POLLUTION-LUMINEUSE-V2.png
END:VEVENT
END:VCALENDAR