BEGIN:VCALENDAR
VERSION:2.0
PRODID:-//Cabries - ECPv4.9.10//NONSGML v1.0//EN
CALSCALE:GREGORIAN
METHOD:PUBLISH
X-WR-CALNAME:Cabries
X-ORIGINAL-URL:https://www.cabries.fr
X-WR-CALDESC:Évènements pour Cabries
BEGIN:VTIMEZONE
TZID:Europe/Paris
BEGIN:DAYLIGHT
TZOFFSETFROM:+0100
TZOFFSETTO:+0200
TZNAME:CEST
DTSTART:20250330T010000
END:DAYLIGHT
BEGIN:STANDARD
TZOFFSETFROM:+0200
TZOFFSETTO:+0100
TZNAME:CET
DTSTART:20251026T010000
END:STANDARD
END:VTIMEZONE
BEGIN:VEVENT
DTSTART;TZID=Europe/Paris:20250423T190000
DTEND;TZID=Europe/Paris:20250423T210000
DTSTAMP:20260422T071649
CREATED:20250320T163558Z
LAST-MODIFIED:20250320T163558Z
UID:9113-1745434800-1745442000@www.cabries.fr
SUMMARY:Conférence : « Le site archéologique d'Olbia au cœur d'un projet de Géoparc » par Maya Bresciani et Stephen Giner
DESCRIPTION:Le 23 avril à 19h \nImage crédit : L.Borel – CNRS/CCJ \n
URL:https://www.cabries.fr/event/conference-le-site-archeologique-dolbia-au-coeur-dun-projet-de-geoparc-par-maya-bresciani-et-stephen-giner/
LOCATION:Auditorium Pierre Malbosc\, Rue des écoles\, CABRIES\, 13480\, France
CATEGORIES:Conférence
ATTACH;FMTTYPE=image/jpeg:https://www.cabries.fr/wp-content/uploads/2025/03/23042025.jpg
END:VEVENT
END:VCALENDAR