BEGIN:VCALENDAR
VERSION:2.0
PRODID:-//Cabries - ECPv4.9.10//NONSGML v1.0//EN
CALSCALE:GREGORIAN
METHOD:PUBLISH
X-WR-CALNAME:Cabries
X-ORIGINAL-URL:https://www.cabries.fr
X-WR-CALDESC:Évènements pour Cabries
BEGIN:VTIMEZONE
TZID:Europe/Paris
BEGIN:DAYLIGHT
TZOFFSETFROM:+0100
TZOFFSETTO:+0200
TZNAME:CEST
DTSTART:20190331T010000
END:DAYLIGHT
BEGIN:STANDARD
TZOFFSETFROM:+0200
TZOFFSETTO:+0100
TZNAME:CET
DTSTART:20191027T010000
END:STANDARD
END:VTIMEZONE
BEGIN:VEVENT
DTSTART;TZID=Europe/Paris:20190527T200000
DTEND;TZID=Europe/Paris:20190527T200000
DTSTAMP:20260421T093630
CREATED:20190523T131655Z
LAST-MODIFIED:20200514T104445Z
UID:1008-1558987200-1558987200@www.cabries.fr
SUMMARY:Conférence : du chômage ... aux chommages
DESCRIPTION:\n\n\nLundi 27 mai 2019 à 20h – salle Garavaque à CALAS (13480)Entrée libre – Corbeille au profit du Secours Catholique \nCONFÉRENCE ET DÉBAT AVEC LUC SIMULA \nLuc Simula\, professeur honoraire\, agrégé de Sciences économiques et sociales\,a enseigné en classes préparatoires économiques et à l’IUFM de Montpellier. \nComprendre le chômage contemporain exige de préciser le concept\, d’analyser les relations entre l’emploi et le chômage. L’analyse économique définit différentes causes et formes du chômage. Il devient alors possible de (re)penser la lutte contre le chômage\, de réfléchir aux objectifs et aux moyens susceptibles de se rapprocher du plein-emploi dans le cadre économique\, social et géopolitique du XXIème siècle. \n\n\n\n
URL:https://www.cabries.fr/event/conference-du-chomage-aux-chommages/
LOCATION:Rue de Calas\, Maison Louise Garavaque\, Avenue de Provence\, Cabriès\, 13480\, France
END:VEVENT
END:VCALENDAR