BEGIN:VCALENDAR
VERSION:2.0
PRODID:-//Cabries - ECPv4.9.10//NONSGML v1.0//EN
CALSCALE:GREGORIAN
METHOD:PUBLISH
X-WR-CALNAME:Cabries
X-ORIGINAL-URL:https://www.cabries.fr
X-WR-CALDESC:Évènements pour Cabries
BEGIN:VTIMEZONE
TZID:Europe/Paris
BEGIN:DAYLIGHT
TZOFFSETFROM:+0100
TZOFFSETTO:+0200
TZNAME:CEST
DTSTART:20190331T010000
END:DAYLIGHT
BEGIN:STANDARD
TZOFFSETFROM:+0200
TZOFFSETTO:+0100
TZNAME:CET
DTSTART:20191027T010000
END:STANDARD
END:VTIMEZONE
BEGIN:VEVENT
DTSTART;TZID=Europe/Paris:20190623T143000
DTEND;TZID=Europe/Paris:20190623T170000
DTSTAMP:20260421T083446
CREATED:20190605T074745Z
LAST-MODIFIED:20200514T104430Z
UID:1048-1561300200-1561309200@www.cabries.fr
SUMMARY:Concert : Fête de la Voix
DESCRIPTION:Laure Florentin et les 8 ateliers de la voix présentent chacun un échantillon de leur programme. \nDimanche 23 juin à 14h30 \nUn partenariat MdA / AVA\nAuditorium Pierre Malbosc\nEntrée libre \n
URL:https://www.cabries.fr/event/concert-fete-de-la-voix/
LOCATION:Auditorium Pierre Malbosc\, Rue des écoles\, CABRIES\, 13480\, France
END:VEVENT
END:VCALENDAR