BEGIN:VCALENDAR
VERSION:2.0
PRODID:-//Cabries - ECPv4.9.10//NONSGML v1.0//EN
CALSCALE:GREGORIAN
METHOD:PUBLISH
X-WR-CALNAME:Cabries
X-ORIGINAL-URL:https://www.cabries.fr
X-WR-CALDESC:Évènements pour Cabries
BEGIN:VTIMEZONE
TZID:Europe/Paris
BEGIN:DAYLIGHT
TZOFFSETFROM:+0100
TZOFFSETTO:+0200
TZNAME:CEST
DTSTART:20250330T010000
END:DAYLIGHT
BEGIN:STANDARD
TZOFFSETFROM:+0200
TZOFFSETTO:+0100
TZNAME:CET
DTSTART:20251026T010000
END:STANDARD
END:VTIMEZONE
BEGIN:VEVENT
DTSTART;TZID=Europe/Paris:20251213T153000
DTEND;TZID=Europe/Paris:20251213T220000
DTSTAMP:20260421T105840
CREATED:20251009T134130Z
LAST-MODIFIED:20251027T123804Z
UID:10607-1765639800-1765663200@www.cabries.fr
SUMMARY:Concert aux 1001 bougies - Edition 3 - Comédies Musicales
DESCRIPTION:Le samedi 13 décembre à 15h30\, 18h et 20h30 \nLes professeurs de la Maison des Arts vous invitent à une soirée inoubliable « Comédies Musicales » à la lueur des bougies. Rejoignez-nous pour cette performance unique et vibrante\, entièrement dédiée à soutenir le Téléthon ! \nTous ensemble pour une bonne cause ! \nTrois séances : 15h30\, 18h et 20h30 \nRéservation : https://www.billetweb.fr/concert-aux-mille-et-une-bougies-edition-2-rock-en-classique&multi=19484&color=C14238&parent=maisondesartsdecabries&color=C14238&from_multi=1 \n
URL:https://www.cabries.fr/event/concert-aux-1001-bougies/
LOCATION:Auditorium Pierre Malbosc\, Rue des écoles\, CABRIES\, 13480\, France
CATEGORIES:Musique,Spectacle
ATTACH;FMTTYPE=image/png:https://www.cabries.fr/wp-content/uploads/2025/10/13122025-1.png
END:VEVENT
END:VCALENDAR