BEGIN:VCALENDAR
VERSION:2.0
PRODID:-//Cabries - ECPv4.9.10//NONSGML v1.0//EN
CALSCALE:GREGORIAN
METHOD:PUBLISH
X-WR-CALNAME:Cabries
X-ORIGINAL-URL:https://www.cabries.fr
X-WR-CALDESC:Évènements pour Cabries
BEGIN:VTIMEZONE
TZID:Europe/Paris
BEGIN:DAYLIGHT
TZOFFSETFROM:+0100
TZOFFSETTO:+0200
TZNAME:CEST
DTSTART:20220327T010000
END:DAYLIGHT
BEGIN:STANDARD
TZOFFSETFROM:+0200
TZOFFSETTO:+0100
TZNAME:CET
DTSTART:20221030T010000
END:STANDARD
END:VTIMEZONE
BEGIN:VEVENT
DTSTART;TZID=Europe/Paris:20221214T183000
DTEND;TZID=Europe/Paris:20221214T200000
DTSTAMP:20260421T080512
CREATED:20221214T095528Z
LAST-MODIFIED:20221214T095544Z
UID:5173-1671042600-1671048000@www.cabries.fr
SUMMARY: Chants de Noël du Monde\, avec le Trio Zéphyr
DESCRIPTION:\n\n\n\n\n\n\n\n Mercredi 14 décembre à 18h30 dans votre auditorium.\n(Ouverture des portes à 18h00)\n\n\n\nLe Département des Bouches-du-Rhône et la Mairie de Cabriès-Calas vous offrent un superbe concert:\n\n\nUne Invitation au voyage avec un programme autour des chants de l’Avent issus des différentes parties du globe : Amérique latine\, bassin méditerranéen\, ou encore Balkans. Création originale avec Joulik et le Trio Zéphyr\, deux formations œuvrant depuis plusieurs années sur l’esthétique des musiques du monde\, classiques ou traditionnelles.\n\n\nEntrée libre dans la limite des places disponibles.\n\n\n\nTournée départementale des chants de Noël\n\n\n\n\n\n
URL:https://www.cabries.fr/event/chants-de-noel-du-monde-avec-le-trio-zephyr/
LOCATION:Auditorium Pierre Malbosc\, Rue des écoles\, CABRIES\, 13480\, France
CATEGORIES:Loisir,Musique
ATTACH;FMTTYPE=image/jpeg:https://www.cabries.fr/wp-content/uploads/2022/12/CHANTS-DE-NOEL.jpg
END:VEVENT
END:VCALENDAR