BEGIN:VCALENDAR
VERSION:2.0
PRODID:-//Cabries - ECPv4.9.10//NONSGML v1.0//EN
CALSCALE:GREGORIAN
METHOD:PUBLISH
X-WR-CALNAME:Cabries
X-ORIGINAL-URL:https://www.cabries.fr
X-WR-CALDESC:Évènements pour Cabries
BEGIN:VTIMEZONE
TZID:Europe/Paris
BEGIN:DAYLIGHT
TZOFFSETFROM:+0100
TZOFFSETTO:+0200
TZNAME:CEST
DTSTART:20260329T010000
END:DAYLIGHT
BEGIN:STANDARD
TZOFFSETFROM:+0200
TZOFFSETTO:+0100
TZNAME:CET
DTSTART:20261025T010000
END:STANDARD
END:VTIMEZONE
BEGIN:VEVENT
DTSTART;TZID=Europe/Paris:20260406T090000
DTEND;TZID=Europe/Paris:20260406T180000
DTSTAMP:20260422T163029
CREATED:20260224T153540Z
LAST-MODIFIED:20260224T153802Z
UID:11105-1775466000-1775498400@www.cabries.fr
SUMMARY:Braderie du Foyer St Raphaël
DESCRIPTION:Le 6 avril de 9h à 18h  \nDon : le 02/04 de 9h30 à 11h30 et 14h à 16h \nLa Braderie du Foyer St Raphaël de Cabriès\, Vêtements\, Livres et petite Brocante\, aura lieu à la Maison Garavaque de Calas 13480 Cabriès\, le Lundi de Pâques 6 avril 2026.\nLes bénévoles du Foyer Saint Raphaël de Cabriès ont trié pour vous les objets qui leur ont été donnés et vous les proposent à petits prix.\nLe moment privilégié pour faire de bonnes affaires et donner une seconde vie à ces objets.\nLes sommes récoltées servent à soutenir des actions caritatives. \n
URL:https://www.cabries.fr/event/braderie-du-foyer-st-raphael-2/
LOCATION:Maison Louise Garavaque\, Maison Louise Garavaque\, Cabriès\, 13480\, France
ATTACH;FMTTYPE=image/jpeg:https://www.cabries.fr/wp-content/uploads/2026/02/06042026.jpg
END:VEVENT
END:VCALENDAR