BEGIN:VCALENDAR
VERSION:2.0
PRODID:-//Cabries - ECPv4.9.10//NONSGML v1.0//EN
CALSCALE:GREGORIAN
METHOD:PUBLISH
X-WR-CALNAME:Cabries
X-ORIGINAL-URL:https://www.cabries.fr
X-WR-CALDESC:Évènements pour Cabries
BEGIN:VTIMEZONE
TZID:Europe/Paris
BEGIN:DAYLIGHT
TZOFFSETFROM:+0100
TZOFFSETTO:+0200
TZNAME:CEST
DTSTART:20190331T010000
END:DAYLIGHT
BEGIN:STANDARD
TZOFFSETFROM:+0200
TZOFFSETTO:+0100
TZNAME:CET
DTSTART:20191027T010000
END:STANDARD
END:VTIMEZONE
BEGIN:VEVENT
DTSTART;TZID=Europe/Paris:20190529T180000
DTEND;TZID=Europe/Paris:20190529T180000
DTSTAMP:20260421T081956
CREATED:20190521T164724Z
LAST-MODIFIED:20200514T104444Z
UID:973-1559152800-1559152800@www.cabries.fr
SUMMARY:Bodega de l'OCC
DESCRIPTION:🎊 Bodega de l’OCC 🎊 \nPlus qu’une semaine à attendre ⏳ \nElle revient le mercredi 29 mai ! \n\nDJ LBY sera présent pour endiabler la soirée\, une buvette sera ouverte ainsi qu’un service de restauration au comptoir. 🔝 \n✅ Notez cette date dans votre agenda ! Nous vous attendons nombreuses et nombreux \n⚠️ Entrée gratuite 😏 \n\n
URL:https://www.cabries.fr/event/bodega-de-locc/
LOCATION:Olympique Cabriès Calas\, Avenue Raymond Martin\, Cabriès\, Bouches-du-Rhône\, 13480\, France
END:VEVENT
END:VCALENDAR